BEGIN:VCALENDAR
VERSION:2.0
PRODID:-//wp-events-plugin.com//7.2.3.1//EN
TZID:Europe/Berlin
X-WR-TIMEZONE:Europe/Berlin
BEGIN:VEVENT
UID:26@krk-otzing.de
DTSTART;TZID=Europe/Berlin:20260501T000000
DTEND;TZID=Europe/Berlin:20260501T000000
DTSTAMP:20260424T173038Z
URL:https://www.krk-otzing.de/veranstaltungen/am-freitag-den-1-mai-2026-fi
 ndet-kein-schiessbetrieb-statt/
SUMMARY:Am Freitag\, den 1. Mai 2026 findet kein Schießbetrieb statt
DESCRIPTION:
END:VEVENT
BEGIN:VTIMEZONE
TZID:Europe/Berlin
X-LIC-LOCATION:Europe/Berlin
BEGIN:DAYLIGHT
DTSTART:20260329T030000
TZOFFSETFROM:+0100
TZOFFSETTO:+0200
TZNAME:CEST
END:DAYLIGHT
END:VTIMEZONE
END:VCALENDAR